BEGIN:VCALENDAR
VERSION:2.0
PRODID:-//City of Mission, SD - ECPv6.15.17//NONSGML v1.0//EN
CALSCALE:GREGORIAN
METHOD:PUBLISH
X-WR-CALNAME:City of Mission, SD
X-ORIGINAL-URL:https://missionsd.gov
X-WR-CALDESC:Events for City of Mission, SD
REFRESH-INTERVAL;VALUE=DURATION:PT1H
X-Robots-Tag:noindex
X-PUBLISHED-TTL:PT1H
BEGIN:VTIMEZONE
TZID:UTC
BEGIN:STANDARD
TZOFFSETFROM:+0000
TZOFFSETTO:+0000
TZNAME:UTC
DTSTART:20240101T000000
END:STANDARD
END:VTIMEZONE
BEGIN:VEVENT
DTSTART;TZID=UTC:20260401T180000
DTEND;TZID=UTC:20260401T190000
DTSTAMP:20260425T185039
CREATED:20260210T042215Z
LAST-MODIFIED:20260210T042215Z
UID:1629-1775066400-1775070000@missionsd.gov
SUMMARY:Council Meeting
DESCRIPTION:City Council Meetings are open to the public.
URL:https://missionsd.gov/event/council-meeting-21/
CATEGORIES:Meeting
ATTACH;FMTTYPE=image/png:https://missionsd.gov/wp-content/uploads/2024/11/MISSION.png
END:VEVENT
BEGIN:VEVENT
DTSTART;TZID=UTC:20260318T180000
DTEND;TZID=UTC:20260318T190000
DTSTAMP:20260425T185039
CREATED:20260210T042113Z
LAST-MODIFIED:20260210T042113Z
UID:1627-1773856800-1773860400@missionsd.gov
SUMMARY:Council Meeting
DESCRIPTION:City Council Meetings are open to the public.
URL:https://missionsd.gov/event/council-meeting-20/
CATEGORIES:Meeting
ATTACH;FMTTYPE=image/png:https://missionsd.gov/wp-content/uploads/2024/11/MISSION.png
END:VEVENT
BEGIN:VEVENT
DTSTART;TZID=UTC:20260304T180000
DTEND;TZID=UTC:20260304T190000
DTSTAMP:20260425T185039
CREATED:20260210T042028Z
LAST-MODIFIED:20260210T042028Z
UID:1625-1772647200-1772650800@missionsd.gov
SUMMARY:Council Meeting
DESCRIPTION:City Council Meetings are open to the public.
URL:https://missionsd.gov/event/council-meeting-19/
CATEGORIES:Meeting
ATTACH;FMTTYPE=image/png:https://missionsd.gov/wp-content/uploads/2024/11/MISSION.png
END:VEVENT
BEGIN:VEVENT
DTSTART;TZID=UTC:20260218T180000
DTEND;TZID=UTC:20260218T190000
DTSTAMP:20260425T185039
CREATED:20260210T032421Z
LAST-MODIFIED:20260210T032421Z
UID:1615-1771437600-1771441200@missionsd.gov
SUMMARY:Council Meeting
DESCRIPTION:City Council Meetings are open to the public.
URL:https://missionsd.gov/event/council-meeting-18/
CATEGORIES:Meeting
ATTACH;FMTTYPE=image/png:https://missionsd.gov/wp-content/uploads/2024/11/MISSION.png
END:VEVENT
BEGIN:VEVENT
DTSTART;TZID=UTC:20260204T180000
DTEND;TZID=UTC:20260204T190000
DTSTAMP:20260425T185039
CREATED:20260210T031943Z
LAST-MODIFIED:20260210T032537Z
UID:1613-1770228000-1770231600@missionsd.gov
SUMMARY:Council Meeting
DESCRIPTION:City Council Meetings are open to the public.
URL:https://missionsd.gov/event/council-meeting-17/
CATEGORIES:Meeting
ATTACH;FMTTYPE=image/png:https://missionsd.gov/wp-content/uploads/2024/11/MISSION.png
END:VEVENT
BEGIN:VEVENT
DTSTART;TZID=UTC:20251217T180000
DTEND;TZID=UTC:20251217T190000
DTSTAMP:20260425T185039
CREATED:20250521T151437Z
LAST-MODIFIED:20250521T151437Z
UID:1475-1765994400-1765998000@missionsd.gov
SUMMARY:Council Meeting
DESCRIPTION:City Council Meetings are open to the public
URL:https://missionsd.gov/event/council-meeting-16/
CATEGORIES:Meeting
ATTACH;FMTTYPE=image/png:https://missionsd.gov/wp-content/uploads/2024/11/MISSION.png
END:VEVENT
BEGIN:VEVENT
DTSTART;TZID=UTC:20251203T180000
DTEND;TZID=UTC:20251203T190000
DTSTAMP:20260425T185039
CREATED:20250521T151333Z
LAST-MODIFIED:20250521T151333Z
UID:1473-1764784800-1764788400@missionsd.gov
SUMMARY:Council Meeting
DESCRIPTION:City Council Meetings are open to the public.
URL:https://missionsd.gov/event/council-meeting-15/
CATEGORIES:Meeting
ATTACH;FMTTYPE=image/png:https://missionsd.gov/wp-content/uploads/2024/11/MISSION.png
END:VEVENT
BEGIN:VEVENT
DTSTART;VALUE=DATE:20251127
DTEND;VALUE=DATE:20251128
DTSTAMP:20260425T185039
CREATED:20250521T153725Z
LAST-MODIFIED:20250521T153939Z
UID:1480-1764201600-1764287999@missionsd.gov
SUMMARY:Thanksgiving Day
DESCRIPTION:
URL:https://missionsd.gov/event/thanksgiving-day/
CATEGORIES:Holiday
ATTACH;FMTTYPE=image/png:https://missionsd.gov/wp-content/uploads/2025/05/Thanksgiving.png
END:VEVENT
BEGIN:VEVENT
DTSTART;TZID=UTC:20251119T180000
DTEND;TZID=UTC:20251119T190000
DTSTAMP:20260425T185039
CREATED:20250521T151011Z
LAST-MODIFIED:20250521T151011Z
UID:1471-1763575200-1763578800@missionsd.gov
SUMMARY:Council Meeting
DESCRIPTION:City Council Meetings are open to the public.
URL:https://missionsd.gov/event/council-meeting-14/
CATEGORIES:Meeting
ATTACH;FMTTYPE=image/png:https://missionsd.gov/wp-content/uploads/2024/11/MISSION.png
END:VEVENT
BEGIN:VEVENT
DTSTART;VALUE=DATE:20251111
DTEND;VALUE=DATE:20251112
DTSTAMP:20260425T185039
CREATED:20250521T153538Z
LAST-MODIFIED:20250521T153538Z
UID:1477-1762819200-1762905599@missionsd.gov
SUMMARY:Veterans Day
DESCRIPTION:
URL:https://missionsd.gov/event/veterans-day/
CATEGORIES:Holiday
ATTACH;FMTTYPE=image/png:https://missionsd.gov/wp-content/uploads/2025/05/Veterans-Day.png
END:VEVENT
BEGIN:VEVENT
DTSTART;TZID=UTC:20251105T180000
DTEND;TZID=UTC:20251105T190000
DTSTAMP:20260425T185039
CREATED:20250521T150129Z
LAST-MODIFIED:20250521T150620Z
UID:1465-1762365600-1762369200@missionsd.gov
SUMMARY:Council Meeting
DESCRIPTION:City Council Meetings are open to the public.
URL:https://missionsd.gov/event/council-meeting-11/
CATEGORIES:Meeting
ATTACH;FMTTYPE=image/png:https://missionsd.gov/wp-content/uploads/2024/11/MISSION.png
END:VEVENT
BEGIN:VEVENT
DTSTART;TZID=UTC:20251015T180000
DTEND;TZID=UTC:20251015T190000
DTSTAMP:20260425T185039
CREATED:20250521T150302Z
LAST-MODIFIED:20250521T150336Z
UID:1467-1760551200-1760554800@missionsd.gov
SUMMARY:Council Meeting
DESCRIPTION:City Council Meetings are open to the public.
URL:https://missionsd.gov/event/council-meeting-12/
CATEGORIES:Meeting
ATTACH;FMTTYPE=image/png:https://missionsd.gov/wp-content/uploads/2024/11/MISSION.png
END:VEVENT
BEGIN:VEVENT
DTSTART;VALUE=DATE:20251013
DTEND;VALUE=DATE:20251014
DTSTAMP:20260425T185039
CREATED:20250521T150035Z
LAST-MODIFIED:20250521T153307Z
UID:1463-1760313600-1760399999@missionsd.gov
SUMMARY:Columbus Day
DESCRIPTION:
URL:https://missionsd.gov/event/columbus-day/
CATEGORIES:Holiday
END:VEVENT
BEGIN:VEVENT
DTSTART;TZID=UTC:20251001T180000
DTEND;TZID=UTC:20251001T190000
DTSTAMP:20260425T185039
CREATED:20250521T150444Z
LAST-MODIFIED:20250521T150444Z
UID:1469-1759341600-1759345200@missionsd.gov
SUMMARY:Council Meeting
DESCRIPTION:City Council Meetings are open to the public
URL:https://missionsd.gov/event/council-meeting-13/
CATEGORIES:Meeting
ATTACH;FMTTYPE=image/png:https://missionsd.gov/wp-content/uploads/2024/11/MISSION.png
END:VEVENT
BEGIN:VEVENT
DTSTART;TZID=UTC:20250927T090000
DTEND;TZID=UTC:20250927T170000
DTSTAMP:20260425T185039
CREATED:20251007T201150Z
LAST-MODIFIED:20251007T201306Z
UID:1543-1758963600-1758992400@missionsd.gov
SUMMARY:Welcome Neighbor Day
DESCRIPTION:Free Mission Welcome Neighbor Day – Coed 3v3 Basketball Tournament!\n\n\nWe’re bringing the community together on the court! Join us for an exciting Coed 3v3 Basketball Tournament during the City of Mission’s Welcome Neighbor Day Celebration.\n\n\n Date: September 27th\n Location: Mission City Park\n\n\n Divisions:\n• Middle School\n• High School\n\n\nGet your squad together\, show off your skills\, and rep your school! \n\n\n Prizes\, bragging rights\, and fun for the whole community!\n\n\nCome hoop with us and celebrate Mission the right way – with basketball\, good vibes\, and neighbors coming together.
URL:https://missionsd.gov/event/welcome-neighbor-day/
CATEGORIES:Event
END:VEVENT
BEGIN:VEVENT
DTSTART;TZID=UTC:20250917T180000
DTEND;TZID=UTC:20250917T190000
DTSTAMP:20260425T185039
CREATED:20250521T145545Z
LAST-MODIFIED:20250521T145545Z
UID:1460-1758132000-1758135600@missionsd.gov
SUMMARY:Council Meeting
DESCRIPTION:City Council Meetings are open to the public.
URL:https://missionsd.gov/event/council-meeting-10/
CATEGORIES:Meeting
ATTACH;FMTTYPE=image/png:https://missionsd.gov/wp-content/uploads/2024/11/MISSION.png
END:VEVENT
BEGIN:VEVENT
DTSTART;TZID=UTC:20250903T180000
DTEND;TZID=UTC:20250903T190000
DTSTAMP:20260425T185039
CREATED:20250521T145031Z
LAST-MODIFIED:20250521T145414Z
UID:1458-1756922400-1756926000@missionsd.gov
SUMMARY:Council Meeting
DESCRIPTION:City Council Meetings are open to the public.
URL:https://missionsd.gov/event/council-meeting-9/
CATEGORIES:Meeting
ATTACH;FMTTYPE=image/png:https://missionsd.gov/wp-content/uploads/2024/11/MISSION.png
END:VEVENT
BEGIN:VEVENT
DTSTART;VALUE=DATE:20250901
DTEND;VALUE=DATE:20250902
DTSTAMP:20260425T185039
CREATED:20250521T144827Z
LAST-MODIFIED:20250521T145626Z
UID:1456-1756684800-1756771199@missionsd.gov
SUMMARY:Labor Day
DESCRIPTION:Labor Day is an American national holiday celebrated on the first Monday in September. The day commemorates the social and economic contributions of workers to the country. Depending on the year\, it can be celebrated between September 1 and September 7.
URL:https://missionsd.gov/event/labor-day/
CATEGORIES:Holiday
ATTACH;FMTTYPE=image/png:https://missionsd.gov/wp-content/uploads/2025/05/sept-1-2025.png
END:VEVENT
BEGIN:VEVENT
DTSTART;TZID=UTC:20250820T180000
DTEND;TZID=UTC:20250820T190000
DTSTAMP:20260425T185039
CREATED:20250521T142305Z
LAST-MODIFIED:20250521T142353Z
UID:1453-1755712800-1755716400@missionsd.gov
SUMMARY:Council Meeting
DESCRIPTION:City Council Meetings are open to the public.
URL:https://missionsd.gov/event/council-meeting-8/
CATEGORIES:Meeting
END:VEVENT
BEGIN:VEVENT
DTSTART;TZID=UTC:20250806T180000
DTEND;TZID=UTC:20250806T190000
DTSTAMP:20260425T185039
CREATED:20250521T142136Z
LAST-MODIFIED:20251008T201636Z
UID:1451-1754503200-1754506800@missionsd.gov
SUMMARY:Council Meeting
DESCRIPTION:City Council Meetings are open to the public. \n  \n  \n\nMeeting Agenda Aug – 6th\, 2025 (PDF)
URL:https://missionsd.gov/event/council-meeting-7/
CATEGORIES:Meeting
ATTACH;FMTTYPE=image/png:https://missionsd.gov/wp-content/uploads/2024/11/MISSION.png
END:VEVENT
BEGIN:VEVENT
DTSTART;TZID=UTC:20250716T180000
DTEND;TZID=UTC:20250716T190000
DTSTAMP:20260425T185039
CREATED:20250507T190406Z
LAST-MODIFIED:20250521T141720Z
UID:977-1752688800-1752692400@missionsd.gov
SUMMARY:Council Meeting
DESCRIPTION:City Council Meetings are open to the public.
URL:https://missionsd.gov/event/council-meeting-6/
LOCATION:Mission City Office\, 121 Main Street\, Mission\, SD\, 57555\, United States
CATEGORIES:Meeting
ATTACH;FMTTYPE=image/png:https://missionsd.gov/wp-content/uploads/2024/11/MISSION.png
END:VEVENT
BEGIN:VEVENT
DTSTART;VALUE=DATE:20250704
DTEND;VALUE=DATE:20250705
DTSTAMP:20260425T185039
CREATED:20250507T185846Z
LAST-MODIFIED:20250521T142656Z
UID:967-1751587200-1751673599@missionsd.gov
SUMMARY:Independence Day
DESCRIPTION:The Fourth of July celebrates the passage of the Declaration of Independence by the Continental Congress on July 4\, 1776. The Declaration announced the political separation of the 13 North American colonies from Great Britain.
URL:https://missionsd.gov/event/967/
LOCATION:Mission City Office\, 121 Main Street\, Mission\, SD\, 57555\, United States
CATEGORIES:Holiday
ATTACH;FMTTYPE=image/png:https://missionsd.gov/wp-content/uploads/2025/05/Fourth-Of-July.png
END:VEVENT
BEGIN:VEVENT
DTSTART;TZID=UTC:20250702T180000
DTEND;TZID=UTC:20250702T190000
DTSTAMP:20260425T185039
CREATED:20250507T190245Z
LAST-MODIFIED:20250521T141628Z
UID:975-1751479200-1751482800@missionsd.gov
SUMMARY:Council Meeting
DESCRIPTION:City Council Meetings are open to the public.
URL:https://missionsd.gov/event/council-meeting-5/
LOCATION:Mission City Office\, 121 Main Street\, Mission\, SD\, 57555\, United States
CATEGORIES:Meeting
ATTACH;FMTTYPE=image/png:https://missionsd.gov/wp-content/uploads/2024/11/MISSION.png
END:VEVENT
BEGIN:VEVENT
DTSTART;TZID=UTC:20250618T180000
DTEND;TZID=UTC:20250618T190000
DTSTAMP:20260425T185039
CREATED:20250507T190151Z
LAST-MODIFIED:20251008T200838Z
UID:973-1750269600-1750273200@missionsd.gov
SUMMARY:Council Meeting
DESCRIPTION:City Council Meetings are open to the public. \n  \n\n2025 June 18th Minutes (PDF)
URL:https://missionsd.gov/event/council-meeting-4/
LOCATION:Mission City Office\, 121 Main Street\, Mission\, SD\, 57555\, United States
CATEGORIES:Meeting
ATTACH;FMTTYPE=image/png:https://missionsd.gov/wp-content/uploads/2024/11/MISSION.png
END:VEVENT
BEGIN:VEVENT
DTSTART;TZID=UTC:20250604T180000
DTEND;TZID=UTC:20250604T190000
DTSTAMP:20260425T185039
CREATED:20250507T190018Z
LAST-MODIFIED:20251008T201410Z
UID:971-1749060000-1749063600@missionsd.gov
SUMMARY:Council Meeting
DESCRIPTION:City Council Meetings are open to the public. \n  \n\n2025 June 4th Minutes (PDF)
URL:https://missionsd.gov/event/council-meeting-3/
LOCATION:Mission City Office\, 121 Main Street\, Mission\, SD\, 57555\, United States
CATEGORIES:Meeting
ATTACH;FMTTYPE=image/png:https://missionsd.gov/wp-content/uploads/2024/11/MISSION.png
END:VEVENT
BEGIN:VEVENT
DTSTART;VALUE=DATE:20250526
DTEND;VALUE=DATE:20250527
DTSTAMP:20260425T185039
CREATED:20250507T185322Z
LAST-MODIFIED:20250521T141105Z
UID:964-1748217600-1748303999@missionsd.gov
SUMMARY:Memorial Day
DESCRIPTION:Memorial Day is a national holiday in the United States celebrated on the last Monday of May to honor and remember those who have died while serving in the U.S. military. Originally known as Decoration Day\, it was established in the years following the Civil War and became a federal holiday in 1971.
URL:https://missionsd.gov/event/memorial-day/
LOCATION:Mission City Office\, 121 Main Street\, Mission\, SD\, 57555\, United States
CATEGORIES:Holiday
ATTACH;FMTTYPE=image/png:https://missionsd.gov/wp-content/uploads/2025/05/Memorial-Day.png
END:VEVENT
BEGIN:VEVENT
DTSTART;TZID=UTC:20250521T180000
DTEND;TZID=UTC:20250521T190000
DTSTAMP:20260425T185039
CREATED:20250506T215917Z
LAST-MODIFIED:20251008T201116Z
UID:942-1747850400-1747854000@missionsd.gov
SUMMARY:Council Meeting
DESCRIPTION:City Council Meetings are open to the public. \n  \n\n2025 May 21th Minutes (PDF)
URL:https://missionsd.gov/event/council-meeting-2/
LOCATION:Mission City Office\, 121 Main Street\, Mission\, SD\, 57555\, United States
CATEGORIES:Meeting
ATTACH;FMTTYPE=image/png:https://missionsd.gov/wp-content/uploads/2024/11/MISSION.png
END:VEVENT
BEGIN:VEVENT
DTSTART;TZID=UTC:20250507T180000
DTEND;TZID=UTC:20250507T190000
DTSTAMP:20260425T185039
CREATED:20250506T215656Z
LAST-MODIFIED:20251008T200957Z
UID:939-1746640800-1746644400@missionsd.gov
SUMMARY:Council Meeting
DESCRIPTION:City Council Meetings are open to the public. \n  \n\n2025 May 7th Minutes (PDF)
URL:https://missionsd.gov/event/council-meeting/
LOCATION:Mission City Office\, 121 Main Street\, Mission\, SD\, 57555\, United States
CATEGORIES:Meeting
ATTACH;FMTTYPE=image/png:https://missionsd.gov/wp-content/uploads/2024/11/MISSION.png
END:VEVENT
END:VCALENDAR